BEGIN:VCALENDAR
VERSION:2.0
PRODID:-//Central Presbyterian - ECPv6.15.20//NONSGML v1.0//EN
CALSCALE:GREGORIAN
METHOD:PUBLISH
X-WR-CALNAME:Central Presbyterian
X-ORIGINAL-URL:https://www.centralpreschurch.org
X-WR-CALDESC:Events for Central Presbyterian
REFRESH-INTERVAL;VALUE=DURATION:PT1H
X-Robots-Tag:noindex
X-PUBLISHED-TTL:PT1H
BEGIN:VTIMEZONE
TZID:America/Indiana/Indianapolis
BEGIN:DAYLIGHT
TZOFFSETFROM:-0500
TZOFFSETTO:-0400
TZNAME:EDT
DTSTART:20240310T070000
END:DAYLIGHT
BEGIN:STANDARD
TZOFFSETFROM:-0400
TZOFFSETTO:-0500
TZNAME:EST
DTSTART:20241103T060000
END:STANDARD
BEGIN:DAYLIGHT
TZOFFSETFROM:-0500
TZOFFSETTO:-0400
TZNAME:EDT
DTSTART:20250309T070000
END:DAYLIGHT
BEGIN:STANDARD
TZOFFSETFROM:-0400
TZOFFSETTO:-0500
TZNAME:EST
DTSTART:20251102T060000
END:STANDARD
BEGIN:DAYLIGHT
TZOFFSETFROM:-0500
TZOFFSETTO:-0400
TZNAME:EDT
DTSTART:20260308T070000
END:DAYLIGHT
BEGIN:STANDARD
TZOFFSETFROM:-0400
TZOFFSETTO:-0500
TZNAME:EST
DTSTART:20261101T060000
END:STANDARD
END:VTIMEZONE
BEGIN:VEVENT
DTSTART;TZID=America/Indiana/Indianapolis:20251224T190000
DTEND;TZID=America/Indiana/Indianapolis:20251224T190000
DTSTAMP:20260419T114121
CREATED:20251222T210137Z
LAST-MODIFIED:20251224T142837Z
UID:2507-1766602800-1766602800@www.centralpreschurch.org
SUMMARY:Christmas Eve Service
DESCRIPTION:Join us at 7:00 p.m. on Wednesday\, December 24\, 2025!
URL:https://www.centralpreschurch.org/event/christmas-eve-service-3/
CATEGORIES:Special Worship Service
ATTACH;FMTTYPE=image/png:https://www.centralpreschurch.org/wp-content/uploads/2025/12/Screenshot-2025-12-22-155914.png
END:VEVENT
BEGIN:VEVENT
DTSTART;TZID=America/Indiana/Indianapolis:20251228T110000
DTEND;TZID=America/Indiana/Indianapolis:20251228T113000
DTSTAMP:20260419T114121
CREATED:20251222T210246Z
LAST-MODIFIED:20251222T210246Z
UID:2510-1766919600-1766921400@www.centralpreschurch.org
SUMMARY:Congregational Meeting
DESCRIPTION:
URL:https://www.centralpreschurch.org/event/congregational-meeting/
CATEGORIES:Special Worship Service
END:VEVENT
END:VCALENDAR