BEGIN:VCALENDAR
VERSION:2.0
PRODID:-//Central Presbyterian - ECPv6.15.20//NONSGML v1.0//EN
CALSCALE:GREGORIAN
METHOD:PUBLISH
X-ORIGINAL-URL:https://www.centralpreschurch.org
X-WR-CALDESC:Events for Central Presbyterian
REFRESH-INTERVAL;VALUE=DURATION:PT1H
X-Robots-Tag:noindex
X-PUBLISHED-TTL:PT1H
BEGIN:VTIMEZONE
TZID:America/Indiana/Indianapolis
BEGIN:DAYLIGHT
TZOFFSETFROM:-0500
TZOFFSETTO:-0400
TZNAME:EDT
DTSTART:20230312T070000
END:DAYLIGHT
BEGIN:STANDARD
TZOFFSETFROM:-0400
TZOFFSETTO:-0500
TZNAME:EST
DTSTART:20231105T060000
END:STANDARD
BEGIN:DAYLIGHT
TZOFFSETFROM:-0500
TZOFFSETTO:-0400
TZNAME:EDT
DTSTART:20240310T070000
END:DAYLIGHT
BEGIN:STANDARD
TZOFFSETFROM:-0400
TZOFFSETTO:-0500
TZNAME:EST
DTSTART:20241103T060000
END:STANDARD
BEGIN:DAYLIGHT
TZOFFSETFROM:-0500
TZOFFSETTO:-0400
TZNAME:EDT
DTSTART:20250309T070000
END:DAYLIGHT
BEGIN:STANDARD
TZOFFSETFROM:-0400
TZOFFSETTO:-0500
TZNAME:EST
DTSTART:20251102T060000
END:STANDARD
END:VTIMEZONE
BEGIN:VEVENT
DTSTART;TZID=America/Indiana/Indianapolis:20240901T100000
DTEND;TZID=America/Indiana/Indianapolis:20240901T110000
DTSTAMP:20260420T055447
CREATED:20240828T141146Z
LAST-MODIFIED:20240828T141146Z
UID:2002-1725184800-1725188400@www.centralpreschurch.org
SUMMARY:Fifteenth Sunday after Pentecost: Sunday\, September 1\, 2024
DESCRIPTION:
URL:https://www.centralpreschurch.org/event/fifteenth-sunday-after-pentecost-sunday-september-1-2024/
CATEGORIES:Sunday Worship Service
ATTACH;FMTTYPE=image/jpeg:https://www.centralpreschurch.org/wp-content/uploads/2024/08/september-image.jpg
END:VEVENT
BEGIN:VEVENT
DTSTART;TZID=America/Indiana/Indianapolis:20240908T100000
DTEND;TZID=America/Indiana/Indianapolis:20240908T110000
DTSTAMP:20260420T055447
CREATED:20240904T185600Z
LAST-MODIFIED:20240904T185600Z
UID:2006-1725789600-1725793200@www.centralpreschurch.org
SUMMARY:Sixteenth Sunday after Pentecost: September 8\, 2024
DESCRIPTION:
URL:https://www.centralpreschurch.org/event/sixteenth-sunday-after-pentecost-september-8-2024/
CATEGORIES:Sunday Worship Service
ATTACH;FMTTYPE=image/jpeg:https://www.centralpreschurch.org/wp-content/uploads/2024/09/Faith-Without-Favortism.jpg
END:VEVENT
BEGIN:VEVENT
DTSTART;TZID=America/Indiana/Indianapolis:20240915T100000
DTEND;TZID=America/Indiana/Indianapolis:20240915T110000
DTSTAMP:20260420T055447
CREATED:20240911T152416Z
LAST-MODIFIED:20240912T130501Z
UID:2020-1726394400-1726398000@www.centralpreschurch.org
SUMMARY:Seventeenth Sunday after Pentecost: September 15\, 2024
DESCRIPTION:
URL:https://www.centralpreschurch.org/event/seventeenth-sunday-after-pentecost-september-15-2024/
CATEGORIES:Sunday Worship Service
ATTACH;FMTTYPE=image/jpeg:https://www.centralpreschurch.org/wp-content/uploads/2024/09/16.jpg
END:VEVENT
BEGIN:VEVENT
DTSTART;TZID=America/Indiana/Indianapolis:20240922T100000
DTEND;TZID=America/Indiana/Indianapolis:20240922T110000
DTSTAMP:20260420T055447
CREATED:20240918T152742Z
LAST-MODIFIED:20240918T172900Z
UID:2039-1726999200-1727002800@www.centralpreschurch.org
SUMMARY:Blessing of the Animals: September 22\, 2024
DESCRIPTION:
URL:https://www.centralpreschurch.org/event/blessing-of-the-animals-september-22-2024/
CATEGORIES:Sunday Worship Service
ATTACH;FMTTYPE=image/jpeg:https://www.centralpreschurch.org/wp-content/uploads/2024/09/Blessing-of-the-Animals-September-22-2024.jpg
END:VEVENT
BEGIN:VEVENT
DTSTART;TZID=America/Indiana/Indianapolis:20240929T100000
DTEND;TZID=America/Indiana/Indianapolis:20240929T110000
DTSTAMP:20260420T055447
CREATED:20240925T144427Z
LAST-MODIFIED:20240925T144427Z
UID:2046-1727604000-1727607600@www.centralpreschurch.org
SUMMARY:Nineteenth Sunday after Pentecost: September 29\, 2024
DESCRIPTION:
URL:https://www.centralpreschurch.org/event/nineteenth-sunday-after-pentecost-september-29-2024/
CATEGORIES:Sunday Worship Service
ATTACH;FMTTYPE=image/jpeg:https://www.centralpreschurch.org/wp-content/uploads/2024/09/29th.jpg
END:VEVENT
END:VCALENDAR