BEGIN:VCALENDAR
VERSION:2.0
PRODID:-//Central Presbyterian - ECPv6.15.20//NONSGML v1.0//EN
CALSCALE:GREGORIAN
METHOD:PUBLISH
X-ORIGINAL-URL:https://www.centralpreschurch.org
X-WR-CALDESC:Events for Central Presbyterian
REFRESH-INTERVAL;VALUE=DURATION:PT1H
X-Robots-Tag:noindex
X-PUBLISHED-TTL:PT1H
BEGIN:VTIMEZONE
TZID:America/Indiana/Indianapolis
BEGIN:DAYLIGHT
TZOFFSETFROM:-0500
TZOFFSETTO:-0400
TZNAME:EDT
DTSTART:20230312T070000
END:DAYLIGHT
BEGIN:STANDARD
TZOFFSETFROM:-0400
TZOFFSETTO:-0500
TZNAME:EST
DTSTART:20231105T060000
END:STANDARD
BEGIN:DAYLIGHT
TZOFFSETFROM:-0500
TZOFFSETTO:-0400
TZNAME:EDT
DTSTART:20240310T070000
END:DAYLIGHT
BEGIN:STANDARD
TZOFFSETFROM:-0400
TZOFFSETTO:-0500
TZNAME:EST
DTSTART:20241103T060000
END:STANDARD
BEGIN:DAYLIGHT
TZOFFSETFROM:-0500
TZOFFSETTO:-0400
TZNAME:EDT
DTSTART:20250309T070000
END:DAYLIGHT
BEGIN:STANDARD
TZOFFSETFROM:-0400
TZOFFSETTO:-0500
TZNAME:EST
DTSTART:20251102T060000
END:STANDARD
END:VTIMEZONE
BEGIN:VEVENT
DTSTART;TZID=America/Indiana/Indianapolis:20240225T100000
DTEND;TZID=America/Indiana/Indianapolis:20240225T110000
DTSTAMP:20260420T214000
CREATED:20240222T151735Z
LAST-MODIFIED:20240222T151735Z
UID:1780-1708855200-1708858800@www.centralpreschurch.org
SUMMARY:Second Sunday in Lent - February 25\, 2024
DESCRIPTION:
URL:https://www.centralpreschurch.org/event/second-sunday-in-lent-february-25-2024/
CATEGORIES:Sunday Worship Service
ATTACH;FMTTYPE=image/jpeg:https://www.centralpreschurch.org/wp-content/uploads/2024/02/February-25-2024.001.jpeg
END:VEVENT
BEGIN:VEVENT
DTSTART;TZID=America/Indiana/Indianapolis:20240303T090000
DTEND;TZID=America/Indiana/Indianapolis:20240303T100000
DTSTAMP:20260420T214000
CREATED:20231229T130814Z
LAST-MODIFIED:20240108T185907Z
UID:1693-1709456400-1709460000@www.centralpreschurch.org
SUMMARY:Esther with Ryan Shelley
DESCRIPTION:
URL:https://www.centralpreschurch.org/event/esther-with-ryan-shelley/
LOCATION:Fitch Parlor
CATEGORIES:Adult Education
ATTACH;FMTTYPE=image/jpeg:https://www.centralpreschurch.org/wp-content/uploads/2023/11/bible.jpg
END:VEVENT
BEGIN:VEVENT
DTSTART;TZID=America/Indiana/Indianapolis:20240303T100000
DTEND;TZID=America/Indiana/Indianapolis:20240303T110000
DTSTAMP:20260420T214000
CREATED:20240229T143345Z
LAST-MODIFIED:20240229T143345Z
UID:1784-1709460000-1709463600@www.centralpreschurch.org
SUMMARY:Third Sunday in Lent - March 3\, 2024
DESCRIPTION:
URL:https://www.centralpreschurch.org/event/third-sunday-in-lent-march-3-2024/
CATEGORIES:Sunday Worship Service
ATTACH;FMTTYPE=image/jpeg:https://www.centralpreschurch.org/wp-content/uploads/2024/02/March-3-2024.001.jpeg
END:VEVENT
BEGIN:VEVENT
DTSTART;TZID=America/Indiana/Indianapolis:20240310T100000
DTEND;TZID=America/Indiana/Indianapolis:20240310T110000
DTSTAMP:20260420T214000
CREATED:20240307T142847Z
LAST-MODIFIED:20240307T231007Z
UID:1790-1710064800-1710068400@www.centralpreschurch.org
SUMMARY:Fourth Sunday in Lent: March 10\, 2024
DESCRIPTION:
URL:https://www.centralpreschurch.org/event/fourth-sunday-in-lent-march-10-2024/
CATEGORIES:Sunday Worship Service
ATTACH;FMTTYPE=image/jpeg:https://www.centralpreschurch.org/wp-content/uploads/2024/03/lent-4.jpg
END:VEVENT
BEGIN:VEVENT
DTSTART;TZID=America/Indiana/Indianapolis:20240317T090000
DTEND;TZID=America/Indiana/Indianapolis:20240317T100000
DTSTAMP:20260420T214000
CREATED:20231229T130900Z
LAST-MODIFIED:20231229T142642Z
UID:1695-1710666000-1710669600@www.centralpreschurch.org
SUMMARY:Esther with Ryan Shelley
DESCRIPTION:
URL:https://www.centralpreschurch.org/event/esther-with-ryan-shelley-2/
LOCATION:Fitch Parlor
CATEGORIES:Adult Education
ATTACH;FMTTYPE=image/jpeg:https://www.centralpreschurch.org/wp-content/uploads/2023/11/open-bible-scaled.jpg
END:VEVENT
BEGIN:VEVENT
DTSTART;TZID=America/Indiana/Indianapolis:20240317T100000
DTEND;TZID=America/Indiana/Indianapolis:20240317T110000
DTSTAMP:20260420T214000
CREATED:20240314T135207Z
LAST-MODIFIED:20240314T135207Z
UID:1809-1710669600-1710673200@www.centralpreschurch.org
SUMMARY:Fifth Sunday in Lent: March 17\, 2024
DESCRIPTION:
URL:https://www.centralpreschurch.org/event/fifth-sunday-in-lent-march-17-2024/
CATEGORIES:Sunday Worship Service
ATTACH;FMTTYPE=image/jpeg:https://www.centralpreschurch.org/wp-content/uploads/2024/03/lent-5-1.jpg
END:VEVENT
BEGIN:VEVENT
DTSTART;TZID=America/Indiana/Indianapolis:20240324T100000
DTEND;TZID=America/Indiana/Indianapolis:20240324T110000
DTSTAMP:20260420T214000
CREATED:20240321T155925Z
LAST-MODIFIED:20240321T155925Z
UID:1829-1711274400-1711278000@www.centralpreschurch.org
SUMMARY:Palm Sunday: March 24\, 2024
DESCRIPTION:
URL:https://www.centralpreschurch.org/event/palm-sunday-march-24-2024/
ATTACH;FMTTYPE=image/jpeg:https://www.centralpreschurch.org/wp-content/uploads/2024/03/palm-sunday-1.jpg
END:VEVENT
BEGIN:VEVENT
DTSTART;TZID=America/Indiana/Indianapolis:20240328T190000
DTEND;TZID=America/Indiana/Indianapolis:20240328T200000
DTSTAMP:20260420T214000
CREATED:20240327T144455Z
LAST-MODIFIED:20240327T150300Z
UID:1837-1711652400-1711656000@www.centralpreschurch.org
SUMMARY:Maundy Thursday: March 28\, 2024
DESCRIPTION:
URL:https://www.centralpreschurch.org/event/maundy-thursday-march-28-2024/
CATEGORIES:Special Worship Service
ATTACH;FMTTYPE=image/jpeg:https://www.centralpreschurch.org/wp-content/uploads/2024/03/maundy-thursday.jpg
END:VEVENT
BEGIN:VEVENT
DTSTART;TZID=America/Indiana/Indianapolis:20240329T190000
DTEND;TZID=America/Indiana/Indianapolis:20240329T200000
DTSTAMP:20260420T214000
CREATED:20240314T162130Z
LAST-MODIFIED:20240314T162130Z
UID:1820-1711738800-1711742400@www.centralpreschurch.org
SUMMARY:Holy Week: Good Friday
DESCRIPTION:Join us at the Stations of Peter as we praise Jesus for his sacrifice.
URL:https://www.centralpreschurch.org/event/holy-week-good-friday/
LOCATION:Central Presbyterian Church\, 31 N. 7th Street\, Lafayette\, IN\, 47901\, United States
ATTACH;FMTTYPE=image/jpeg:https://www.centralpreschurch.org/wp-content/uploads/2024/03/45.jpg
END:VEVENT
BEGIN:VEVENT
DTSTART;TZID=America/Indiana/Indianapolis:20240331T100000
DTEND;TZID=America/Indiana/Indianapolis:20240331T110000
DTSTAMP:20260420T214000
CREATED:20240327T142339Z
LAST-MODIFIED:20240327T142339Z
UID:1833-1711879200-1711882800@www.centralpreschurch.org
SUMMARY:Resurrection of the Lord: Easter Sunday\, March 31\, 2024
DESCRIPTION:
URL:https://www.centralpreschurch.org/event/resurrection-of-the-lord-easter-sunday-march-31-2024/
CATEGORIES:Sunday Worship Service
ATTACH;FMTTYPE=image/jpeg:https://www.centralpreschurch.org/wp-content/uploads/2024/03/easter.jpg
END:VEVENT
BEGIN:VEVENT
DTSTART;TZID=America/Indiana/Indianapolis:20240407T100000
DTEND;TZID=America/Indiana/Indianapolis:20240407T110000
DTSTAMP:20260420T214000
CREATED:20240404T135403Z
LAST-MODIFIED:20240404T135403Z
UID:1841-1712484000-1712487600@www.centralpreschurch.org
SUMMARY:Second Sunday of Easter: April 7\, 2024
DESCRIPTION:
URL:https://www.centralpreschurch.org/event/second-sunday-of-easter-april-7-2024/
CATEGORIES:Sunday Worship Service
ATTACH;FMTTYPE=image/jpeg:https://www.centralpreschurch.org/wp-content/uploads/2024/04/Second-Sunday-of-Easter.jpg
END:VEVENT
BEGIN:VEVENT
DTSTART;TZID=America/Indiana/Indianapolis:20240413T140000
DTEND;TZID=America/Indiana/Indianapolis:20240413T150000
DTSTAMP:20260420T214000
CREATED:20240411T135640Z
LAST-MODIFIED:20240411T135805Z
UID:1848-1713016800-1713020400@www.centralpreschurch.org
SUMMARY:A Service of Witness to the Resurrection and Celebration of the Life of Mary Ford
DESCRIPTION:
URL:https://www.centralpreschurch.org/event/a-service-of-witness-to-the-resurrection-and-celebration-of-the-life-of-mary-ford/
CATEGORIES:Special Worship Service
ATTACH;FMTTYPE=image/png:https://www.centralpreschurch.org/wp-content/uploads/2024/04/Mary-Ford.png
END:VEVENT
BEGIN:VEVENT
DTSTART;TZID=America/Indiana/Indianapolis:20240414T100000
DTEND;TZID=America/Indiana/Indianapolis:20240414T110000
DTSTAMP:20260420T214000
CREATED:20240411T140429Z
LAST-MODIFIED:20240411T140429Z
UID:1850-1713088800-1713092400@www.centralpreschurch.org
SUMMARY:Third Sunday of Easter: April 14\, 2024
DESCRIPTION:
URL:https://www.centralpreschurch.org/event/third-sunday-of-easter-april-14-2024/
CATEGORIES:Sunday Worship Service
ATTACH;FMTTYPE=image/png:https://www.centralpreschurch.org/wp-content/uploads/2024/04/ink.png
END:VEVENT
BEGIN:VEVENT
DTSTART;TZID=America/Indiana/Indianapolis:20240428T100000
DTEND;TZID=America/Indiana/Indianapolis:20240428T110000
DTSTAMP:20260420T214000
CREATED:20240418T181715Z
LAST-MODIFIED:20240418T181715Z
UID:1854-1714298400-1714302000@www.centralpreschurch.org
SUMMARY:Fourth Sunday of Easter: Sunday\, April 21\, 2024
DESCRIPTION:
URL:https://www.centralpreschurch.org/event/fourth-sunday-of-easter-sunday-april-21-2024/
CATEGORIES:Sunday Worship Service
ATTACH;FMTTYPE=image/png:https://www.centralpreschurch.org/wp-content/uploads/2024/04/ink.png
END:VEVENT
BEGIN:VEVENT
DTSTART;TZID=America/Indiana/Indianapolis:20240428T100000
DTEND;TZID=America/Indiana/Indianapolis:20240428T110000
DTSTAMP:20260420T214000
CREATED:20240424T141124Z
LAST-MODIFIED:20240424T141124Z
UID:1864-1714298400-1714302000@www.centralpreschurch.org
SUMMARY:Fifth Sunday of Easter: Sunday\, April 28\, 2024
DESCRIPTION:
URL:https://www.centralpreschurch.org/event/fifth-sunday-of-easter-sunday-april-28-2024/
CATEGORIES:Sunday Worship Service
ATTACH;FMTTYPE=image/jpeg:https://www.centralpreschurch.org/wp-content/uploads/2024/04/prune.jpg
END:VEVENT
BEGIN:VEVENT
DTSTART;TZID=America/Indiana/Indianapolis:20240505T090000
DTEND;TZID=America/Indiana/Indianapolis:20240505T094500
DTSTAMP:20260420T214000
CREATED:20240419T131817Z
LAST-MODIFIED:20240419T131817Z
UID:1857-1714899600-1714902300@www.centralpreschurch.org
SUMMARY:Christian Education: Book of Ecclesiastes
DESCRIPTION:
URL:https://www.centralpreschurch.org/event/christian-education-book-of-ecclesiastes/
LOCATION:Fitch Parlor
CATEGORIES:Adult Education
ATTACH;FMTTYPE=image/png:https://www.centralpreschurch.org/wp-content/uploads/2024/04/Christian-Education.png
END:VEVENT
BEGIN:VEVENT
DTSTART;TZID=America/Indiana/Indianapolis:20240505T100000
DTEND;TZID=America/Indiana/Indianapolis:20240505T110000
DTSTAMP:20260420T214000
CREATED:20240502T135617Z
LAST-MODIFIED:20240502T135617Z
UID:1870-1714903200-1714906800@www.centralpreschurch.org
SUMMARY:Sixth Sunday of Easter: May 5\, 2024
DESCRIPTION:
URL:https://www.centralpreschurch.org/event/sixth-sunday-of-easter-may-5-2024/
CATEGORIES:Sunday Worship Service
ATTACH;FMTTYPE=image/jpeg:https://www.centralpreschurch.org/wp-content/uploads/2024/05/love-like-Jesus-2.jpg
END:VEVENT
BEGIN:VEVENT
DTSTART;TZID=America/Indiana/Indianapolis:20240507T183000
DTEND;TZID=America/Indiana/Indianapolis:20240507T194500
DTSTAMP:20260420T214000
CREATED:20240419T141036Z
LAST-MODIFIED:20240419T141036Z
UID:1861-1715106600-1715111100@www.centralpreschurch.org
SUMMARY:Why people are the way they are - introduction to mental health.
DESCRIPTION:If you would like to better understand the relationship between thinking-feeling-doing\, this is a great training for you! Be introduced to how everyone functions and the role that our mental health plays in our lives. Jennifer Shook will be the trainer.
URL:https://www.centralpreschurch.org/event/why-people-are-the-way-they-are-introduction-to-mental-health/
LOCATION:Central Presbyterian Church\, 31 N. 7th Street\, Lafayette\, IN\, 47901\, United States
ATTACH;FMTTYPE=image/png:https://www.centralpreschurch.org/wp-content/uploads/2024/04/TFD-pyramid.png
END:VEVENT
BEGIN:VEVENT
DTSTART;TZID=America/Indiana/Indianapolis:20240512T100000
DTEND;TZID=America/Indiana/Indianapolis:20240512T110000
DTSTAMP:20260420T214000
CREATED:20240508T190423Z
LAST-MODIFIED:20240508T190423Z
UID:1878-1715508000-1715511600@www.centralpreschurch.org
SUMMARY:Seventh Sunday of Easter: May 12\, 2024
DESCRIPTION:
URL:https://www.centralpreschurch.org/event/seventh-sunday-of-easter-may-12-2024/
ATTACH;FMTTYPE=image/png:https://www.centralpreschurch.org/wp-content/uploads/2024/05/The-golden-thread-of-grace.png
END:VEVENT
BEGIN:VEVENT
DTSTART;TZID=America/Indiana/Indianapolis:20240519T100000
DTEND;TZID=America/Indiana/Indianapolis:20240519T110000
DTSTAMP:20260420T214000
CREATED:20240515T163622Z
LAST-MODIFIED:20240515T163622Z
UID:1882-1716112800-1716116400@www.centralpreschurch.org
SUMMARY:Pentecost: Sunday\, May 19\, 2024
DESCRIPTION:
URL:https://www.centralpreschurch.org/event/pentecost-sunday-may-19-2024/
ATTACH;FMTTYPE=image/png:https://www.centralpreschurch.org/wp-content/uploads/2024/05/fire.png
END:VEVENT
BEGIN:VEVENT
DTSTART;TZID=America/Indiana/Indianapolis:20240526T100000
DTEND;TZID=America/Indiana/Indianapolis:20240526T110000
DTSTAMP:20260420T214000
CREATED:20240523T154159Z
LAST-MODIFIED:20240523T154159Z
UID:1902-1716717600-1716721200@www.centralpreschurch.org
SUMMARY:Sunday\, May 26: Trinity Sunday
DESCRIPTION:
URL:https://www.centralpreschurch.org/event/sunday-may-26-trinity-sunday/
ATTACH;FMTTYPE=image/png:https://www.centralpreschurch.org/wp-content/uploads/2024/05/Lift-every-voice.png
END:VEVENT
BEGIN:VEVENT
DTSTART;TZID=America/Indiana/Indianapolis:20240602T100000
DTEND;TZID=America/Indiana/Indianapolis:20240602T110000
DTSTAMP:20260420T214000
CREATED:20240530T190353Z
LAST-MODIFIED:20240530T190353Z
UID:1906-1717322400-1717326000@www.centralpreschurch.org
SUMMARY:Second Sunday after Pentecost: June 2\, 2024
DESCRIPTION:
URL:https://www.centralpreschurch.org/event/second-sunday-after-pentecost-june-2-2024/
CATEGORIES:Sunday Worship Service
ATTACH;FMTTYPE=image/png:https://www.centralpreschurch.org/wp-content/uploads/2024/05/Stretch-out-your-hand.png
END:VEVENT
BEGIN:VEVENT
DTSTART;TZID=America/Indiana/Indianapolis:20240604T180000
DTEND;TZID=America/Indiana/Indianapolis:20240604T200000
DTSTAMP:20260420T214000
CREATED:20240516T162619Z
LAST-MODIFIED:20240516T162654Z
UID:1886-1717524000-1717531200@www.centralpreschurch.org
SUMMARY:Understanding the background and context of the conflict in the Middle East. Six-week series.
DESCRIPTION:Join us for a six-week series presented by Rev. Dr. Robert Cathey\, Professor Emeritus\, McCormick Theological Seminary. He will be hosting discussions with other experts: \nTom Mockaitis\, History Professor at DePaul University. \nRabbi Yehiel Poupko\, Rabbinic Scholar at the Jewish Federation of Metropolitan Chicago. \nFidaa Elaydi\, Palestinian-American lawyer. \nEach of these speakers brings a unique\,  inter-faith perspective to this topic. \nThe goal is to help participants better understand the biblical\, theological\, ethical\, and historical factors that have led to the current situation. \nRegister here:https://www.eventbrite.com/e/891762223817?aff=oddtdtcreator \n 
URL:https://www.centralpreschurch.org/event/understanding-the-background-and-context-of-the-conflict-in-the-middle-east-six-week-series/
LOCATION:Central Presbyterian Church\, 31 N. 7th Street\, Lafayette\, IN\, 47901\, United States
CATEGORIES:Adult Education
ATTACH;FMTTYPE=image/png:https://www.centralpreschurch.org/wp-content/uploads/2024/05/ME-training.png
END:VEVENT
BEGIN:VEVENT
DTSTART;TZID=America/Indiana/Indianapolis:20240606T194500
DTEND;TZID=America/Indiana/Indianapolis:20240606T210000
DTSTAMP:20260420T214001
CREATED:20240520T145539Z
LAST-MODIFIED:20240520T145539Z
UID:1889-1717703100-1717707600@www.centralpreschurch.org
SUMMARY:Central Softball Game
DESCRIPTION:
URL:https://www.centralpreschurch.org/event/central-softball-game/
LOCATION:Arni Cohen Memorial Softball Field #1
ATTACH;FMTTYPE=image/png:https://www.centralpreschurch.org/wp-content/uploads/2024/05/softball.png
END:VEVENT
BEGIN:VEVENT
DTSTART;TZID=America/Indiana/Indianapolis:20240609T100000
DTEND;TZID=America/Indiana/Indianapolis:20240609T110000
DTSTAMP:20260420T214001
CREATED:20240605T150650Z
LAST-MODIFIED:20240605T160011Z
UID:1910-1717927200-1717930800@www.centralpreschurch.org
SUMMARY:Third Sunday after Pentecost: June 9\, 2024
DESCRIPTION:
URL:https://www.centralpreschurch.org/event/third-sunday-after-pentecost-june-9-2024/
CATEGORIES:Sunday Worship Service
ATTACH;FMTTYPE=image/png:https://www.centralpreschurch.org/wp-content/uploads/2024/06/Family-Ties.png
END:VEVENT
BEGIN:VEVENT
DTSTART;TZID=America/Indiana/Indianapolis:20240613T181500
DTEND;TZID=America/Indiana/Indianapolis:20240613T200000
DTSTAMP:20260420T214001
CREATED:20240520T145635Z
LAST-MODIFIED:20240520T145635Z
UID:1893-1718302500-1718308800@www.centralpreschurch.org
SUMMARY:Central Softball Game
DESCRIPTION:
URL:https://www.centralpreschurch.org/event/central-softball-game-2/
LOCATION:Arni Cohen Memorial Softball Field #1
ATTACH;FMTTYPE=image/png:https://www.centralpreschurch.org/wp-content/uploads/2024/05/softball.png
END:VEVENT
BEGIN:VEVENT
DTSTART;TZID=America/Indiana/Indianapolis:20240616T100000
DTEND;TZID=America/Indiana/Indianapolis:20240616T110000
DTSTAMP:20260420T214001
CREATED:20240613T154310Z
LAST-MODIFIED:20240613T154310Z
UID:1915-1718532000-1718535600@www.centralpreschurch.org
SUMMARY:Fourth Sunday after Pentecost: June 16\, 2024
DESCRIPTION:
URL:https://www.centralpreschurch.org/event/fourth-sunday-after-pentecost-june-16-2024/
CATEGORIES:Sunday Worship Service
ATTACH;FMTTYPE=image/png:https://www.centralpreschurch.org/wp-content/uploads/2024/06/Little-Seeds.png
END:VEVENT
BEGIN:VEVENT
DTSTART;TZID=America/Indiana/Indianapolis:20240616T113000
DTEND;TZID=America/Indiana/Indianapolis:20240616T123000
DTSTAMP:20260420T214001
CREATED:20240520T150940Z
LAST-MODIFIED:20240520T150940Z
UID:1899-1718537400-1718541000@www.centralpreschurch.org
SUMMARY:Faith Beyond the Binary: Understanding Faith\, Gender\, and Sexuality in Today's World
DESCRIPTION:Join Pastor Wil Reinowski as he teaches us how to engage those on the LGBTQ+ Spectrum into our congregations with an understanding and compassionate spirit.
URL:https://www.centralpreschurch.org/event/faith-beyond-the-binary-understanding-faith-gender-and-sexuality-in-todays-world/
LOCATION:Central Presbyterian Church\, 31 N. 7th Street\, Lafayette\, IN\, 47901\, United States
ATTACH;FMTTYPE=image/jpeg:https://www.centralpreschurch.org/wp-content/uploads/2024/05/binary.jpg
END:VEVENT
BEGIN:VEVENT
DTSTART;TZID=America/Indiana/Indianapolis:20240617T181500
DTEND;TZID=America/Indiana/Indianapolis:20240617T200000
DTSTAMP:20260420T214001
CREATED:20240520T145748Z
LAST-MODIFIED:20240520T145748Z
UID:1895-1718648100-1718654400@www.centralpreschurch.org
SUMMARY:Central Softball Game
DESCRIPTION:
URL:https://www.centralpreschurch.org/event/central-softball-game-3/
LOCATION:Arni Cohen Memorial Softball Field #1
ATTACH;FMTTYPE=image/png:https://www.centralpreschurch.org/wp-content/uploads/2024/05/softball.png
END:VEVENT
BEGIN:VEVENT
DTSTART;TZID=America/Indiana/Indianapolis:20240620T100000
DTEND;TZID=America/Indiana/Indianapolis:20240620T230000
DTSTAMP:20260420T214001
CREATED:20240620T135636Z
LAST-MODIFIED:20240620T140529Z
UID:1919-1718877600-1718924400@www.centralpreschurch.org
SUMMARY:Fifth Sunday after Pentecost: June 23\, 2024
DESCRIPTION:
URL:https://www.centralpreschurch.org/event/fifth-sunday-after-pentecost-june-23-2024/
CATEGORIES:Sunday Worship Service
ATTACH;FMTTYPE=image/png:https://www.centralpreschurch.org/wp-content/uploads/2024/06/beyond-the-storm.png
END:VEVENT
END:VCALENDAR