BEGIN:VCALENDAR
VERSION:2.0
PRODID:-//Central Presbyterian - ECPv6.15.20//NONSGML v1.0//EN
CALSCALE:GREGORIAN
METHOD:PUBLISH
X-ORIGINAL-URL:https://www.centralpreschurch.org
X-WR-CALDESC:Events for Central Presbyterian
REFRESH-INTERVAL;VALUE=DURATION:PT1H
X-Robots-Tag:noindex
X-PUBLISHED-TTL:PT1H
BEGIN:VTIMEZONE
TZID:America/Indiana/Indianapolis
BEGIN:DAYLIGHT
TZOFFSETFROM:-0500
TZOFFSETTO:-0400
TZNAME:EDT
DTSTART:20250309T070000
END:DAYLIGHT
BEGIN:STANDARD
TZOFFSETFROM:-0400
TZOFFSETTO:-0500
TZNAME:EST
DTSTART:20251102T060000
END:STANDARD
BEGIN:DAYLIGHT
TZOFFSETFROM:-0500
TZOFFSETTO:-0400
TZNAME:EDT
DTSTART:20260308T070000
END:DAYLIGHT
BEGIN:STANDARD
TZOFFSETFROM:-0400
TZOFFSETTO:-0500
TZNAME:EST
DTSTART:20261101T060000
END:STANDARD
BEGIN:DAYLIGHT
TZOFFSETFROM:-0500
TZOFFSETTO:-0400
TZNAME:EDT
DTSTART:20270314T070000
END:DAYLIGHT
BEGIN:STANDARD
TZOFFSETFROM:-0400
TZOFFSETTO:-0500
TZNAME:EST
DTSTART:20271107T060000
END:STANDARD
END:VTIMEZONE
BEGIN:VEVENT
DTSTART;TZID=America/Indiana/Indianapolis:20260301T100000
DTEND;TZID=America/Indiana/Indianapolis:20260301T110000
DTSTAMP:20260419T092317
CREATED:20260226T153348Z
LAST-MODIFIED:20260226T153348Z
UID:2583-1772359200-1772362800@www.centralpreschurch.org
SUMMARY:Second Sunday in Lent - March 1\, 2026
DESCRIPTION:
URL:https://www.centralpreschurch.org/event/second-sunday-in-lent-march-1-2026/
CATEGORIES:Sunday Worship Service
ATTACH;FMTTYPE=image/png:https://www.centralpreschurch.org/wp-content/uploads/2026/02/Screenshot-2026-02-26-102319.png
END:VEVENT
BEGIN:VEVENT
DTSTART;TZID=America/Indiana/Indianapolis:20260308T100000
DTEND;TZID=America/Indiana/Indianapolis:20260308T110000
DTSTAMP:20260419T092317
CREATED:20260305T153659Z
LAST-MODIFIED:20260305T153659Z
UID:2589-1772964000-1772967600@www.centralpreschurch.org
SUMMARY:Third Sunday in Lent - March 8\, 2026
DESCRIPTION:
URL:https://www.centralpreschurch.org/event/third-sunday-in-lent-march-8-2026/
CATEGORIES:Sunday Worship Service
ATTACH;FMTTYPE=image/png:https://www.centralpreschurch.org/wp-content/uploads/2026/03/Screenshot-2026-03-04-103322.png
END:VEVENT
BEGIN:VEVENT
DTSTART;TZID=America/Indiana/Indianapolis:20260315T100000
DTEND;TZID=America/Indiana/Indianapolis:20260315T110000
DTSTAMP:20260419T092317
CREATED:20260312T142347Z
LAST-MODIFIED:20260312T142347Z
UID:2593-1773568800-1773572400@www.centralpreschurch.org
SUMMARY:Fourth Sunday in Lent - March 15\, 2026
DESCRIPTION:
URL:https://www.centralpreschurch.org/event/fourth-sunday-in-lent-march-15-2026/
CATEGORIES:Sunday Worship Service
ATTACH;FMTTYPE=image/png:https://www.centralpreschurch.org/wp-content/uploads/2026/03/Screenshot-2026-03-11-112513.png
END:VEVENT
BEGIN:VEVENT
DTSTART;TZID=America/Indiana/Indianapolis:20260322T100000
DTEND;TZID=America/Indiana/Indianapolis:20260322T110000
DTSTAMP:20260419T092317
CREATED:20260319T154239Z
LAST-MODIFIED:20260319T154239Z
UID:2624-1774173600-1774177200@www.centralpreschurch.org
SUMMARY:Fifth Sunday in Lent - March 22\, 2026
DESCRIPTION:
URL:https://www.centralpreschurch.org/event/fifth-sunday-in-lent-march-22-2026/
CATEGORIES:Sunday Worship Service
ATTACH;FMTTYPE=image/png:https://www.centralpreschurch.org/wp-content/uploads/2026/03/Screenshot-2026-03-19-095938.png
END:VEVENT
BEGIN:VEVENT
DTSTART;VALUE=DATE:20260329
DTEND;VALUE=DATE:20260330
DTSTAMP:20260419T092317
CREATED:20260317T203604Z
LAST-MODIFIED:20260317T203604Z
UID:2598-1774742400-1774828799@www.centralpreschurch.org
SUMMARY:Palm Sunday
DESCRIPTION:You can trade in love\nfor a bag of coins.\nAnd even then\,\neven still\,\neven now\,\nJesus will love you enough to\nwash your feet.\nIf you hear nothing else in the gospel\,\nhear this. \n—excerpt from the poem “If You Hear Nothing Else\, Then Hear This” by Rev. Sarah A. Speed \nArt: “Flow” by Carmelle Beaugelin Caldwell (@beaufoliostudio) | @sanctifiedart
URL:https://www.centralpreschurch.org/event/palm-sunday-2/
ATTACH;FMTTYPE=image/png:https://www.centralpreschurch.org/wp-content/uploads/2026/03/palm-sunday.png
END:VEVENT
BEGIN:VEVENT
DTSTART;TZID=America/Indiana/Indianapolis:20260329T100000
DTEND;TZID=America/Indiana/Indianapolis:20260329T110000
DTSTAMP:20260419T092317
CREATED:20260326T153848Z
LAST-MODIFIED:20260326T153848Z
UID:2629-1774778400-1774782000@www.centralpreschurch.org
SUMMARY:Palm & Passion Sunday - March 29\, 2026
DESCRIPTION:
URL:https://www.centralpreschurch.org/event/palm-passion-sunday-march-29-2026/
CATEGORIES:Sunday Worship Service
ATTACH;FMTTYPE=image/png:https://www.centralpreschurch.org/wp-content/uploads/2026/03/Screenshot-2026-03-26-104059.png
END:VEVENT
BEGIN:VEVENT
DTSTART;VALUE=DATE:20260330
DTEND;VALUE=DATE:20260331
DTSTAMP:20260419T092317
CREATED:20260317T203604Z
LAST-MODIFIED:20260317T203604Z
UID:2601-1774828800-1774915199@www.centralpreschurch.org
SUMMARY:Monday of Holy Week
DESCRIPTION:Judas betrays Jesus\, and his emancipatory mission\, with a kiss that signals to the authorities: he is the one you seek! … In the chaos of the moment\, forgetting the nonviolence Jesus has modeled\, his disciples ready their weapons. One even swings his sword and cuts off the ear of an arresting official. Immediately\, Jesus reminds his people that they fight with words\, ideas\, and vision. To press the point\, he touches the wounded officer and heals him. The power of God that Jesus represents shows care even for the oppressor—even as Jesus uses God’s power to overturn systems of oppression. \nDying on the cross\, Jesus reinforces his message of nonviolent resistance in the most heartbreaking of ways. As the authorities crucify him for proclaiming and prosecuting the hope of liberation for all God’s people\, Jesus asks God to forgive them. To the end\, he fights them by loving them. \nOur calling is to go and do likewise. Fight: Consistently. Defiantly. Furiously. Nonviolently. Whenever and wherever we encounter brokenness\, injustice\, and oppression. To do otherwise is to betray everything for which he lived and died.” \n—Rev. Dr. Brian Blount\, from his commentary on Luke 22:47–23:46 | @sanctifiedart \nArt: “Revealed Through Nonviolence” by Rev. Lauren Wright Pittman | @sanctifiedart
URL:https://www.centralpreschurch.org/event/monday-of-holy-week/
ATTACH;FMTTYPE=image/png:https://www.centralpreschurch.org/wp-content/uploads/2026/03/monday.png
END:VEVENT
BEGIN:VEVENT
DTSTART;VALUE=DATE:20260331
DTEND;VALUE=DATE:20260401
DTSTAMP:20260419T092317
CREATED:20260317T203604Z
LAST-MODIFIED:20260317T203604Z
UID:2604-1774915200-1775001599@www.centralpreschurch.org
SUMMARY:Tuesday of Holy Week
DESCRIPTION:When we backed Jesus into a corner\, \nhe loved and loved and loved again. \nIn this war-torn world\, \nwe could do the same. \nWe could ground the bomber planes\, \nempty the gun cartridges\, \nunclench our fists\, soften our jaws. \nThey say it can’t be done\, \nbut don’t believe them. \nIn this war-torn world\, we could try— \nlove and love and love again. \n—excerpt from the poem “Love & Love & Love Again” by Rev. Sarah A. Speed | @sanctifiedart
URL:https://www.centralpreschurch.org/event/tuesday-of-holy-week/
ATTACH;FMTTYPE=image/png:https://www.centralpreschurch.org/wp-content/uploads/2026/03/tuesday.png
END:VEVENT
END:VCALENDAR